BEGIN:VCALENDAR
PRODID:-//kirchenweb.ch gmbh//veranstaltungsausgabe v2.0//DE
VERSION:2.0
METHOD:PUBLISH
BEGIN:VEVENT
DTSTART:20260425T070000Z
DTEND:20260425T100000Z
LOCATION:Villa Kunterbunt\, \,  Weesen
TRANSP:OPAQUE
SEQUENCE:0
UID:602-veranstaltung@evang-weesen-amden.ch
DTSTAMP:20260421T074318Z
DESCRIPTION:An diesem Vormittag kreieren wir schöne Dekoration für die
  Konfirmation am 14. Juni.\nSabina Birolini leitet die Gruppe und gibt
  Tipps\, damit auch richtig schöne kleinen Kunstwerke entstehen. Dies in
  der wunderschönen Villa Kunterbunt in Weesen.\n\nKontakt: Susanne
  Holdener\n\nWeitere Infos:
  https://www.evang-weesen-amden.ch/veranstaltung/602
SUMMARY:Konf-Zmorge Kreativ
PRIORITY:5
X-MICROSOFT-CDO-IMPORTANCE:1
CLASS:PUBLIC
END:VEVENT
END:VCALENDAR
