BEGIN:VCALENDAR
PRODID:-//kirchenweb.ch gmbh//veranstaltungsausgabe v2.0//DE
VERSION:2.0
METHOD:PUBLISH
BEGIN:VEVENT
DTSTART:20260426T080000Z
DTEND:20260426T090000Z
LOCATION:Bergkirche\, Tobelstrasse\, 8873 Amden
TRANSP:OPAQUE
SEQUENCE:0
UID:590-veranstaltung@evang-weesen-amden.ch
DTSTAMP:20260326T074148Z
DESCRIPTION:Gottesdienst mit Pfarrer Claudius Hess\nMusik: Gerhard
  Spycher\, Orgel\n\nIm Anschluss Kirchenkaffee\n\nKontakt: Pfarrer
  Claudius Hess\n\nWeitere Infos:
  https://www.evang-weesen-amden.ch/veranstaltung/590
SUMMARY:Gottesdienst
PRIORITY:5
X-MICROSOFT-CDO-IMPORTANCE:1
CLASS:PUBLIC
END:VEVENT
END:VCALENDAR
