BEGIN:VCALENDAR
PRODID:-//kirchenweb.ch gmbh//veranstaltungsausgabe v2.0//DE
VERSION:2.0
METHOD:PUBLISH
BEGIN:VEVENT
DTSTART:20260424T100000Z
DTEND:20260424T110000Z
LOCATION:Restaurant Wismetpark Tertianum\, \, 8872 Weesen
TRANSP:OPAQUE
SEQUENCE:0
UID:550-veranstaltung@evang-weesen-amden.ch
DTSTAMP:20260106T092021Z
DESCRIPTION:Das Essen findet jeweils um 12 Uhr statt.\n\nKontakt: Annina
  Stiner\n\nWeitere Infos:
  https://www.evang-weesen-amden.ch/veranstaltung/550
SUMMARY:Senioren-Mittagstisch
PRIORITY:5
X-MICROSOFT-CDO-IMPORTANCE:1
CLASS:PUBLIC
END:VEVENT
END:VCALENDAR
